BEGIN:VCALENDAR
VERSION:2.0
PRODID:-//hacksw/handcal//NONSGML v1.0//EN
CALSCALE:GREGORIAN
BEGIN:VEVENT
ORGANIZER;CN=WM:MAILTO:no-reply@mail.gcs-web.com
DTEND:
UID:29489bee-1303-427a-8aac-aeff53630ad4
DTSTAMP:1776715370
LOCATION:https://event.summitcast.com/view/RyxiUgLVMCDv2W8fW3DqdG/A8TMauG8JoExH6pffRVq3P
DESCRIPTION:Event Details https://investors.wm.com/events/event-details/oppenheimer-21st-annual-industrial-growth-conference\n\nWebcast: https://event.summitcast.com/view/RyxiUgLVMCDv2W8fW3DqdG/A8TMauG8JoExH6pffRVq3P
URL;VALUE=URI:https://event.summitcast.com/view/RyxiUgLVMCDv2W8fW3DqdG/A8TMauG8JoExH6pffRVq3P
SUMMARY:WM - Oppenheimer 21st Annual Industrial Growth Conference
DTSTART:20260507T181500Z
END:VEVENT
END:VCALENDAR